BEGIN:VCALENDAR
VERSION:2.0
PRODID:-//eventon.com NONSGML v1.0//EN
BEGIN:VEVENT
UID:69e6cf4607268
DTSTAMP:20260421T031342
DTSTART:20260306T093000Z
DTEND:20260306T110000Z
TZID:Europe/Paris
LOCATION:Work In Pornic (W.I.P.) 
SUMMARY:Les étapes incontournables de la création-reprise d'entreprise
DESCRIPTION: Vous avez un projet de création ou de reprise d’entreprise sur Pornic agglo Pays de Retz&nbsp;? En deux heures\,  identifiez les étapes incontournables de la création-reprise\,  ainsi que les interlocuteurs qui&nbsp;pourront vous accompagner en proximité&nbsp;dans votre projet. L'occasion également d'aller à la rencontre de l'équipe Développement économique de Pornic agglo[..]\nhttps://entreprendre.pornicagglo.fr/events/les-etapes-incontournables-de-la-creation-reprise-dentreprise-8/
URL:https://entreprendre.pornicagglo.fr/events/les-etapes-incontournables-de-la-creation-reprise-dentreprise-8/
END:VEVENT
END:VCALENDAR